BEGIN:VCALENDAR
VERSION:2.0
PRODID:-//ChamberMaster//Event Calendar 2.0//EN
METHOD:PUBLISH
X-PUBLISHED-TTL:P3D
REFRESH-INTERVAL:P3D
CALSCALE:GREGORIAN
BEGIN:VEVENT
DTSTART:20221208T123000Z
DTEND:20221208T140000Z
X-MICROSOFT-CDO-ALLDAYEVENT:FALSE
SUMMARY:December Holiday Breakfast @ Terrapin 2022
DESCRIPTION:Generously sponsored by Williams Lumber & Home Center...thank you!\n\n\n\nPlease join us for our annual holiday breakfast and mingle with our community businesses and friends! \n\nEnjoy festive seasonal music from the Rhinebeck High School Men's & Women's choir. \n\nThis is always a lovely event that has become a wonderful tradition.
X-ALT-DESC;FMTTYPE=text/html:Generously sponsored by Williams Lumber &amp\; Home Center...thank you!<br />\n<br />\nPlease join us for our annual holiday breakfast and mingle with our community businesses and friends!&nbsp\;<br />\nEnjoy festive seasonal music from the Rhinebeck High School Men&#39\;s &amp\; Women&#39\;s choir.&nbsp\;<br />\nThis is always a lovely event that has become a wonderful tradition.
LOCATION:Terrapin Restaurant 6426 Montgomery Street Rhinebeck\, New York
UID:e.669.6224
SEQUENCE:3
DTSTAMP:20260425T023844Z
URL:https://business.rhinebeckchamber.com/events/details/december-holiday-breakfast-terrapin-2022-6224
END:VEVENT

END:VCALENDAR
