BEGIN:VCALENDAR
VERSION:2.0
PRODID:-//ChamberMaster//Event Calendar 2.0//EN
METHOD:PUBLISH
X-PUBLISHED-TTL:P3D
REFRESH-INTERVAL:P3D
CALSCALE:GREGORIAN
BEGIN:VEVENT
DTSTART:20231207T123000Z
DTEND:20231207T140000Z
X-MICROSOFT-CDO-ALLDAYEVENT:FALSE
SUMMARY:December Holiday Breakfast @ Terrapin 2023
DESCRIPTION:Generously sponsored by Williams Lumber & Home Center...thank you!\n\nPlease join us on Thursday\, December 7th\, for our annual holiday breakfast and mingle with our community businesses and friends! \n\nEnjoy festive seasonal music from the Rhinebeck High School Men's & Women's choir. \n\nThis is always a lovely event that has become a wonderful tradition.
X-ALT-DESC;FMTTYPE=text/html:Generously sponsored by Williams Lumber &amp\; Home Center...thank you!<br />\nPlease join us on Thursday\, December 7th\, for our annual holiday breakfast and mingle with our community businesses and friends!&nbsp\;<br />\nEnjoy festive seasonal music from the Rhinebeck High School Men&#39\;s &amp\; Women&#39\;s choir.&nbsp\;<br />\nThis is always a lovely event that has become a wonderful tradition.
LOCATION:Terrapin Restaurant 6426 Montgomery Street Rhinebeck\, New York
UID:e.669.6301
SEQUENCE:3
DTSTAMP:20260425T010852Z
URL:https://business.rhinebeckchamber.com/events/details/december-holiday-breakfast-terrapin-2023-6301
END:VEVENT

END:VCALENDAR
