BEGIN:VCALENDAR
VERSION:2.0
PRODID:-//ChamberMaster//Event Calendar 2.0//EN
METHOD:PUBLISH
X-PUBLISHED-TTL:P3D
REFRESH-INTERVAL:P3D
CALSCALE:GREGORIAN
BEGIN:VEVENT
DTSTART:20230426T210000Z
DTEND:20230427T000000Z
X-MICROSOFT-CDO-ALLDAYEVENT:FALSE
SUMMARY:TASTE OF RHINEBECK 2023 - Program ADS ONLY - TICKETS NOT SOLD HERE!
DESCRIPTION:
X-ALT-DESC;FMTTYPE=text/html:<div style="text-align: center\;"><br />\n&nbsp\;</div>\n
LOCATION:
UID:e.669.6244
SEQUENCE:3
DTSTAMP:20260420T083524Z
URL:https://business.rhinebeckchamber.com/events/details/taste-of-rhinebeck-2023-program-ads-only-tickets-not-sold-here-6244
END:VEVENT

END:VCALENDAR
