BEGIN:VCALENDAR
VERSION:2.0
PRODID:-//ChamberMaster//Event Calendar 2.0//EN
METHOD:PUBLISH
X-PUBLISHED-TTL:P3D
REFRESH-INTERVAL:P3D
CALSCALE:GREGORIAN
BEGIN:VEVENT
DTSTART:20151114T140000Z
DTEND:20151114T173000Z
X-MICROSOFT-CDO-ALLDAYEVENT:FALSE
SUMMARY:Thriving in Rhinebeck: A Showcase of Services & Resources for Older Adults
DESCRIPTION:Featuring on the stage\n\n\n	Twelve Steps to Successful Aging with Joe Ryan\n	Flex Your Memory with Brent Sverdloff\n\n \n\n .And in the halls and classrooms\n\n\n	Information Tables/presentations\n	Exercises and demonstrations\n\n \n\nBring a friend and browse the halls and classrooms to explore the abundant resources and services available for older adults and their families right here in Rhinebeck!
X-ALT-DESC;FMTTYPE=text/html:<strong><span style="font-size:20.0pt\;">&nbsp\;<span style="color:#4F6228\;">Featuring on the stage</span></span></strong>\n\n<ul>\n	<li style="margin-top:0in\;margin-right:0in\;margin-bottom:0in\;margin-bottom:.0001pt\;"><strong><em><span style="font-size:20.0pt\;">Twelve Steps to Successful Aging </span></em></strong><strong><span style="font-size:20.0pt\;">with Joe Ryan</span></strong></li>\n	<li style="margin-top:0in\;margin-right:0in\;margin-bottom:0in\;margin-bottom:.0001pt\;"><strong><em><span style="font-size:20.0pt\;">Flex Your Memory </span></em></strong><strong><span style="font-size:20.0pt\;">with Brent Sverdloff</span></strong></li>\n</ul>\n&nbsp\;<br />\n<strong><span style="font-size:20.0pt\;">&hellip\;.<span style="color:#4F6228\;">And in the halls and classrooms</span></span></strong>\n\n<ul>\n	<li style="margin-top:0in\;margin-right:0in\;margin-bottom:0in\;margin-bottom:.0001pt\;"><strong><span style="font-size:20.0pt\;">Information Tables/presentations</span></strong></li>\n	<li style="margin-top:0in\;margin-right:0in\;margin-bottom:0in\;margin-bottom:.0001pt\;"><strong><span style="font-size:20.0pt\;">Exercises and demonstrations</span></strong></li>\n</ul>\n&nbsp\;<br />\n<strong><span style="color:#4F6228\;"><span style="font-size:20.0pt\;">Bring a friend and browse the halls and classrooms to explore the abundant resources and services available for older adults and their families&hellip\;right here in Rhinebeck!</span></span></strong>
LOCATION:Rhinebeck High School North Park Road
UID:e.669.3744
SEQUENCE:3
DTSTAMP:20260420T093020Z
URL:https://business.rhinebeckchamber.com/events/details/thriving-in-rhinebeck-a-showcase-of-services-resources-for-older-adults-11-14-2015-3744
END:VEVENT

END:VCALENDAR
